BEGIN:VCALENDAR
VERSION:2.0
PRODID:-//wp-events-plugin.com//7.2.3.1//EN
BEGIN:VEVENT
UID:17@connect-ya.at
DTSTART;VALUE=DATE:20220128
DTEND;VALUE=DATE:20220131
DTSTAMP:20211027T085858Z
URL:https://connect-ya.at/events/connect-austria-winterfreizeit-2022/
SUMMARY:Connect.Austria Winterfreizeit 2022
DESCRIPTION:ORT: Jugendhotel Ennshof\n\nUnsere nächste Winterfreizeit steh
 t bevor! Sei dabei\, wenn sich junge Erwachsene aus ganz Österreich treff
 en\, um ein geniales Winterwochenende gemeinsam zu verbringen. Das Motto l
 autet „JOYFUL“ und in diesem Sinne werden wir uns damit beschäftigen\
 , wie wir durch gute und schlechte Zeiten an einer Freude festhalten könn
 en\, die ewig bleibt. Als Sprecher werden dieses Mal Silvia &amp\; Toby Ra
 thmair\, Pastoren der Freien Christengemeinde (FCG) Steyr\, mit dabei sein
 .\n\n\n\n\nWichtige Infos:\n\nAlter: 18-35 Jahre\n\nFrühbucher bis 05.11.
 2021: 115\,- im MBZ.\nSpätbucher bis 31.12.2021: 130\,- im MBZ.\nTagespre
 is Sa.: 35\,- (inkl. Mittag.- und Abendessen)\nMindestanzahlung bei Anmeld
 ung 40\,- (oder den Gesamtbetrag) Restbetrag bis 15.01.2022\n\nFrühbucher
 preis nur bei Anzahlung bis 12.11.2021 gültig!\nStorno nur bei Krankheit 
 mit Arztbestätigung. Anzahlung prinzipiell nicht refundierbar.\nDoppelzim
 mer nur für Ehepaare und nach Verfügbarkeit.\n\n\nCoViD-Information: 100
 % der von dir eingezahlten Beträge für die Winterfreizeit 2022 werden r
 ückerstattet\, sollte die Veranstaltung gemäß dieszeitlich geltender Ri
 chtlinien nicht stattfinden können. Sofern die Teilnehmerzahl entsprechen
 d der dieszeitlich geltenden Richtlinien kurzfristig reduziert werden muss
 \, wird nach dem Anmeldezeitpunkt vorgegangen - je früher die Anmeldung\,
  desto sicherer ist ein Platz. Sollte die Freizeit in geplanter Weise stat
 tfinden dürfen und jemand aus individueller Vorsicht vor CoViD kurzfristi
 g absagen\, kann keine Kostenrückerstattung garantiert werden.\n\n&nbsp\;
 \nAnmeldung:\n[contact-form-7 id="473" title="Connect Austria Winterfreize
 it 2022"]\n\nBei Fragen melde dich gerne unter info@connect-ya.at
END:VEVENT
END:VCALENDAR